BEGIN:VCALENDAR
VERSION:2.0
PRODID:-//Prosperwell Financial - ECPv6.15.11//NONSGML v1.0//EN
CALSCALE:GREGORIAN
METHOD:PUBLISH
X-WR-CALNAME:Prosperwell Financial
X-ORIGINAL-URL:https://prosperwell.com
X-WR-CALDESC:Events for Prosperwell Financial
REFRESH-INTERVAL;VALUE=DURATION:PT1H
X-Robots-Tag:noindex
X-PUBLISHED-TTL:PT1H
BEGIN:VTIMEZONE
TZID:America/Chicago
BEGIN:DAYLIGHT
TZOFFSETFROM:-0600
TZOFFSETTO:-0500
TZNAME:CDT
DTSTART:20240310T080000
END:DAYLIGHT
BEGIN:STANDARD
TZOFFSETFROM:-0500
TZOFFSETTO:-0600
TZNAME:CST
DTSTART:20241103T070000
END:STANDARD
BEGIN:DAYLIGHT
TZOFFSETFROM:-0600
TZOFFSETTO:-0500
TZNAME:CDT
DTSTART:20250309T080000
END:DAYLIGHT
BEGIN:STANDARD
TZOFFSETFROM:-0500
TZOFFSETTO:-0600
TZNAME:CST
DTSTART:20251102T070000
END:STANDARD
BEGIN:DAYLIGHT
TZOFFSETFROM:-0600
TZOFFSETTO:-0500
TZNAME:CDT
DTSTART:20260308T080000
END:DAYLIGHT
BEGIN:STANDARD
TZOFFSETFROM:-0500
TZOFFSETTO:-0600
TZNAME:CST
DTSTART:20261101T070000
END:STANDARD
END:VTIMEZONE
BEGIN:VEVENT
DTSTART;TZID=America/Chicago:20250807T113000
DTEND;TZID=America/Chicago:20250807T123000
DTSTAMP:20260420T130205
CREATED:20250516T174349Z
LAST-MODIFIED:20250624T135828Z
UID:10000413-1754566200-1754569800@prosperwell.com
SUMMARY:Quarterly Market Update Webinar
DESCRIPTION:Concerned about the stock market?\nWant an economic update?\nJoin us Quarterly for the Prosperwell Financial Market Update Webinar\nGet your questions answered via Zoom! \nAll you need to do is… \n\nSubmit your questions now to info@prosperwell.com\nRSVP below\nJoin us via Zoom
URL:https://prosperwell.com/event/prosperwell-financial-market-update-webinar-2025-08-07/
LOCATION:MN
CATEGORIES:Prosperwell Events
ATTACH;FMTTYPE=image/jpeg:https://prosperwell.com/wp-content/uploads/2025/05/jakub-zerdzicki-dLZbAuSA_EI-unsplash-scaled-e1747417320573.jpg
ORGANIZER;CN="Prosperwell Financial":MAILTO:events@prosperwell.com
END:VEVENT
BEGIN:VEVENT
DTSTART;TZID=America/Chicago:20250818T100000
DTEND;TZID=America/Chicago:20250818T100000
DTSTAMP:20260420T130205
CREATED:20250124T161230Z
LAST-MODIFIED:20250707T200633Z
UID:10000401-1755511200-1755511200@prosperwell.com
SUMMARY:Golf Tournament
DESCRIPTION:Monday\, August 18\, 2025\n10:00am Registration\n11:00am Lunch\nNoon Shotgun\nThe Wilds Golf Club\n3151 Wilds Ridge\,\nPrior Lake\,MN 55372 \nIndividual Golfer: Early Bird Price $150 after July 1 price is $200\nIncludes Lunch\, Networking\, Cart & Practice Balls\, $10 Merchant Credit \nVIP Individual Golfer: Early Bird Price $300 after July 1 price is $350\nIncludes Lunch\, Networking\, VIP Reception\, Swag Bag\, Cart & Practice Balls\, $10 Merchant Credit \nPrizes!\n\nBest Dressed\nLongest Drive\nClosest to the Pin\nLowest Score\n\n\nSPONSORED \n \n*Raymond James is not affiliated with the Nicole Middendorf Foundation. \n  Learn More & Register
URL:https://prosperwell.com/event/charity-golf-tournament/
LOCATION:MN
CATEGORIES:Local Events,Prosperwell Events
ATTACH;FMTTYPE=image/jpeg:https://prosperwell.com/wp-content/uploads/2025/01/mike-cox-lQw5AE8ImTo-unsplash-scaled.jpg
END:VEVENT
BEGIN:VEVENT
DTSTART;TZID=America/Chicago:20250820T150000
DTEND;TZID=America/Chicago:20250820T163000
DTSTAMP:20260420T130205
CREATED:20250516T174343Z
LAST-MODIFIED:20250516T180817Z
UID:10000417-1755702000-1755707400@prosperwell.com
SUMMARY:ProsperWine and Women
DESCRIPTION:Join us for ProsperWine and Women to connect with amazing businesswomen. If you are a working mom\, a woman in business or a women business owner\, you do not want to miss this networking happy hour! We will chat over a glass of wine on topics such as work/life balance\, business growth\, marketing\, finances and so much more.
URL:https://prosperwell.com/event/prosperwine-and-women-08-20-2025/
LOCATION:Prosperwell Financial\, 4300 Baker Rd\, Minnetonka\, MN\, 55343\, United States
CATEGORIES:Local Events,ProsperWine & Women
ATTACH;FMTTYPE=image/jpeg:https://prosperwell.com/wp-content/uploads/2023/11/prosperwine-10.jpg
ORGANIZER;CN="Prosperwell Financial":MAILTO:events@prosperwell.com
END:VEVENT
BEGIN:VEVENT
DTSTART;TZID=America/Chicago:20250827T160000
DTEND;TZID=America/Chicago:20250827T170000
DTSTAMP:20260420T130205
CREATED:20250722T140621Z
LAST-MODIFIED:20250722T140747Z
UID:10000427-1756310400-1756314000@prosperwell.com
SUMMARY:Social Security Webinar
DESCRIPTION:Join us for a virtual Social Security Webinar!\nWebinar will be held via Zoom. Click here to register. \n\n\nGuests will:\n\nLearn about retirement benefits\nLearn about retirement income\nGet questions answered about social security\nLearn about how earnings may affect social security\nLearn more about the financial planning process and how Prosperwell can help\n\n\n\nWho should attend?\n\nIndividuals retired or moving toward retirement\nIndividuals looking to learn more about social security and the financial planning process
URL:https://prosperwell.com/event/social-security-webinar-2025-08-27/
LOCATION:MN
CATEGORIES:Prosperwell Events
ATTACH;FMTTYPE=image/jpeg:https://prosperwell.com/wp-content/uploads/2025/02/social-security-benefits-application.jpg
ORGANIZER;CN="Prosperwell Financial":MAILTO:events@prosperwell.com
END:VEVENT
END:VCALENDAR