BEGIN:VCALENDAR
VERSION:2.0
PRODID:-//Prosperwell Financial - ECPv6.15.11//NONSGML v1.0//EN
CALSCALE:GREGORIAN
METHOD:PUBLISH
X-WR-CALNAME:Prosperwell Financial
X-ORIGINAL-URL:https://prosperwell.com
X-WR-CALDESC:Events for Prosperwell Financial
REFRESH-INTERVAL;VALUE=DURATION:PT1H
X-Robots-Tag:noindex
X-PUBLISHED-TTL:PT1H
BEGIN:VTIMEZONE
TZID:America/Chicago
BEGIN:DAYLIGHT
TZOFFSETFROM:-0600
TZOFFSETTO:-0500
TZNAME:CDT
DTSTART:20240310T080000
END:DAYLIGHT
BEGIN:STANDARD
TZOFFSETFROM:-0500
TZOFFSETTO:-0600
TZNAME:CST
DTSTART:20241103T070000
END:STANDARD
BEGIN:DAYLIGHT
TZOFFSETFROM:-0600
TZOFFSETTO:-0500
TZNAME:CDT
DTSTART:20250309T080000
END:DAYLIGHT
BEGIN:STANDARD
TZOFFSETFROM:-0500
TZOFFSETTO:-0600
TZNAME:CST
DTSTART:20251102T070000
END:STANDARD
BEGIN:DAYLIGHT
TZOFFSETFROM:-0600
TZOFFSETTO:-0500
TZNAME:CDT
DTSTART:20260308T080000
END:DAYLIGHT
BEGIN:STANDARD
TZOFFSETFROM:-0500
TZOFFSETTO:-0600
TZNAME:CST
DTSTART:20261101T070000
END:STANDARD
END:VTIMEZONE
BEGIN:VEVENT
DTSTART;TZID=America/Chicago:20250409T150000
DTEND;TZID=America/Chicago:20250409T163000
DTSTAMP:20260420T100535
CREATED:20241212T212149Z
LAST-MODIFIED:20241217T181306Z
UID:10000398-1744210800-1744216200@prosperwell.com
SUMMARY:ProsperWine and Women
DESCRIPTION:Join us for ProsperWine and Women to connect with amazing businesswomen. If you are a working mom\, a woman in business or a women business owner\, you do not want to miss this networking happy hour! We will chat over a glass of wine on topics such as work/life balance\, business growth\, marketing\, finances and so much more.
URL:https://prosperwell.com/event/prosperwine-and-women-pww-041024/
LOCATION:Prosperwell Financial\, 4300 Baker Rd\, Minnetonka\, MN\, 55343\, United States
CATEGORIES:Local Events,ProsperWine & Women
ATTACH;FMTTYPE=image/jpeg:https://prosperwell.com/wp-content/uploads/2023/11/prosperwine-09.jpg
ORGANIZER;CN="Prosperwell Financial":MAILTO:events@prosperwell.com
END:VEVENT
BEGIN:VEVENT
DTSTART;TZID=America/Chicago:20250417T113000
DTEND;TZID=America/Chicago:20250417T123000
DTSTAMP:20260420T100535
CREATED:20250326T132813Z
LAST-MODIFIED:20250326T132813Z
UID:10000412-1744889400-1744893000@prosperwell.com
SUMMARY:Prosperwell Financial Market Update Webinar
DESCRIPTION:Concerned about the stock market?\nWant an economic update?\nJoin us Quarterly for the Prosperwell Financial Market Update Webinar\nGet your questions answered via Zoom! \nAll you need to do is… \n\nSubmit your questions now to info@prosperwell.com\nRSVP below\nJoin us via Zoom
URL:https://prosperwell.com/event/prosperwell-financial-market-update-webinar-2025-04-17/
LOCATION:MN
CATEGORIES:Prosperwell Events
ATTACH;FMTTYPE=image/jpeg:https://prosperwell.com/wp-content/uploads/2025/03/stock-market-ticker-board.jpg
ORGANIZER;CN="Prosperwell Financial":MAILTO:events@prosperwell.com
END:VEVENT
BEGIN:VEVENT
DTSTART;TZID=America/Chicago:20250424T160000
DTEND;TZID=America/Chicago:20250424T170000
DTSTAMP:20260420T100535
CREATED:20250212T192530Z
LAST-MODIFIED:20250408T150028Z
UID:10000405-1745510400-1745514000@prosperwell.com
SUMMARY:Social Security Seminar
DESCRIPTION:Thank you to everyone who registered — our Social Security Seminar is now full! \nIf you missed out\, don’t worry — you can still join us for our Social Security Webinar on May 15th\, 2025. It’s a great opportunity to get the same helpful information from wherever you are in the world. \n\nThis event is great for individuals retired or preparing for retirement. You will learn about retirement benefits and income\, social security\, and get any other questions answered! \n\n\nGuests will:\n\nLearn about retirement benefits\nLearn about retirement income\nGet questions answered about social security\nLearn about how earnings may affect social security\nLearn more about the financial planning process and how Prosperwell can help\n\n\n\nWho should attend?\n\nIndividuals retired or moving toward retirement\nIndividuals looking to learn more about social security and the financial planning process
URL:https://prosperwell.com/event/social-security-seminar-2025-4-24/
LOCATION:Prosperwell Financial\, 4300 Baker Rd\, Minnetonka\, MN\, 55343\, United States
CATEGORIES:Prosperwell Events
ATTACH;FMTTYPE=image/jpeg:https://prosperwell.com/wp-content/uploads/2025/02/social-security-benefits-application.jpg
ORGANIZER;CN="Prosperwell Financial":MAILTO:events@prosperwell.com
END:VEVENT
END:VCALENDAR