BEGIN:VCALENDAR
VERSION:2.0
PRODID:-//Prosperwell Financial - ECPv6.15.11//NONSGML v1.0//EN
CALSCALE:GREGORIAN
METHOD:PUBLISH
X-WR-CALNAME:Prosperwell Financial
X-ORIGINAL-URL:https://prosperwell.com
X-WR-CALDESC:Events for Prosperwell Financial
REFRESH-INTERVAL;VALUE=DURATION:PT1H
X-Robots-Tag:noindex
X-PUBLISHED-TTL:PT1H
BEGIN:VTIMEZONE
TZID:America/Chicago
BEGIN:DAYLIGHT
TZOFFSETFROM:-0600
TZOFFSETTO:-0500
TZNAME:CDT
DTSTART:20210314T080000
END:DAYLIGHT
BEGIN:STANDARD
TZOFFSETFROM:-0500
TZOFFSETTO:-0600
TZNAME:CST
DTSTART:20211107T070000
END:STANDARD
BEGIN:DAYLIGHT
TZOFFSETFROM:-0600
TZOFFSETTO:-0500
TZNAME:CDT
DTSTART:20220313T080000
END:DAYLIGHT
BEGIN:STANDARD
TZOFFSETFROM:-0500
TZOFFSETTO:-0600
TZNAME:CST
DTSTART:20221106T070000
END:STANDARD
BEGIN:DAYLIGHT
TZOFFSETFROM:-0600
TZOFFSETTO:-0500
TZNAME:CDT
DTSTART:20230312T080000
END:DAYLIGHT
BEGIN:STANDARD
TZOFFSETFROM:-0500
TZOFFSETTO:-0600
TZNAME:CST
DTSTART:20231105T070000
END:STANDARD
END:VTIMEZONE
BEGIN:VEVENT
DTSTART;TZID=America/Chicago:20220929T150000
DTEND;TZID=America/Chicago:20220929T163000
DTSTAMP:20260423T141617
CREATED:20220307T184930Z
LAST-MODIFIED:20220817T145833Z
UID:10000325-1664463600-1664469000@prosperwell.com
SUMMARY:ProsperWine and Women
DESCRIPTION:Join us for our ProsperWine and Women networking happy hour to connect with other amazing business women. Women are great at sharing ideas and building relationships so join us to help grow your own business and/or career. \nIf you are a working mom\, a woman in business or a women business owner\, you do not want to miss this networking happy hour! We will chat over a glass of wine on topics such as work/life balance\, business growth\, marketing\, networking\, finances\, operations\, self-care and so much more! Our goal is that you will leave this happy hour with some great new connections to help you advance to the next level.
URL:https://prosperwell.com/event/prosperwine-and-women-13/
LOCATION:Prosperwell Financial\, 4300 Baker Rd\, Minnetonka\, MN\, 55343\, United States
CATEGORIES:Local Events,ProsperWine & Women
ATTACH;FMTTYPE=image/jpeg:https://prosperwell.com/wp-content/uploads/2022/04/PWW-nicole-laughing.jpg
ORGANIZER;CN="Prosperwell Financial":MAILTO:events@prosperwell.com
END:VEVENT
END:VCALENDAR